BEGIN:VCALENDAR
VERSION:2.0
PRODID:-//Golf Olivar de la Hinojosa - ECPv6.0.11//NONSGML v1.0//EN
CALSCALE:GREGORIAN
METHOD:PUBLISH
X-WR-CALNAME:Golf Olivar de la Hinojosa
X-ORIGINAL-URL:https://olivar.golf
X-WR-CALDESC:Eventos para Golf Olivar de la Hinojosa
REFRESH-INTERVAL;VALUE=DURATION:PT1H
X-Robots-Tag:noindex
X-PUBLISHED-TTL:PT1H
BEGIN:VTIMEZONE
TZID:UTC
BEGIN:STANDARD
TZOFFSETFROM:+0000
TZOFFSETTO:+0000
TZNAME:UTC
DTSTART:20180101T000000
END:STANDARD
END:VTIMEZONE
BEGIN:VEVENT
DTSTART;TZID=UTC:20180513T130000
DTEND;TZID=UTC:20180513T170000
DTSTAMP:20260422T133545
CREATED:20180404T083535Z
LAST-MODIFIED:20200918T133031Z
UID:13131-1526216400-1526230800@olivar.golf
SUMMARY:Ranking Golf Olivar & Friends - ALUMNOS ( CAMPO LARGO)
DESCRIPTION:[fullwidth background_color=»» background_image=»» background_parallax=»none» enable_mobile=»no» parallax_speed=»0.3″ background_repeat=»no-repeat» background_position=»left top» video_url=»» video_aspect_ratio=»16:9″ video_webm=»» video_mp4=»» video_ogv=»» video_preview_image=»» overlay_color=»» overlay_opacity=»0.5″ video_mute=»yes» video_loop=»yes» fade=»no» border_size=»0px» border_color=»» border_style=»solid» padding_top=»0px» padding_bottom=»60px» padding_left=»0px» padding_right=»0px» hundred_percent=»no» equal_height_columns=»no» hide_on_mobile=»no» menu_anchor=»» class=»» id=»»][one_half last=»no» spacing=»yes» center_content=»no» hide_on_mobile=»no» background_color=»» background_image=»» background_repeat=»no-repeat» background_position=»left top» border_position=»all» border_size=»0px» border_color=»» border_style=»» padding=»» margin_top=»» margin_bottom=»» animation_type=»» animation_direction=»» animation_speed=»0.1″ class=»» id=»»][imageframe lightbox=»no» lightbox_image=»» style_type=»none» hover_type=»zoomin» bordercolor=»» bordersize=»0px» borderradius=»0″ stylecolor=»» align=»center» link=»» linktarget=»_self» animation_type=»fade» animation_direction=»down» animation_speed=»0.1″ hide_on_mobile=»no» class=»» id=»»] [/imageframe][button link=»http://olivar.golf/pdf/torneos/salidas/Salidas13-05-18.pdf» color=»custom» size=»xlarge» type=»3d» shape=»pill» target=»_self» title=»» gradient_colors=»#a0ce4e|» gradient_hover_colors=»#96c346|» accent_color=»» accent_hover_color=»» bevel_color=»» border_width=»0px» icon=»fa-th-list» icon_position=»left» icon_divider=»no» modal=»» animation_type=»0″ animation_direction=»up» animation_speed=»1″ alignment=»center» class=»» id=»»]Descargar[/button][/one_half][one_half last=»yes» spacing=»yes» center_content=»no» hide_on_mobile=»no» background_color=»» background_image=»» background_repeat=»no-repeat» background_position=»left top» border_position=»all» border_size=»0px» border_color=»» border_style=»solid» padding=»» margin_top=»» margin_bottom=»» animation_type=»0″ animation_direction=»down» animation_speed=»0.1″ class=»» id=»»][imageframe lightbox=»no» lightbox_image=»» style_type=»none» hover_type=»zoomin» bordercolor=»» bordersize=»0px» borderradius=»0″ stylecolor=»» align=»center» link=»» linktarget=»_self» animation_type=»fade» animation_direction=»down» animation_speed=»0.1″ hide_on_mobile=»no» class=»» id=»»] [/imageframe][button link=»http://olivar.golf/pdf/torneos/clasificaciones/Clasificaciones13-05-18.pdf» color=»custom» size=»xlarge» type=»3d» shape=»pill» target=»_self» title=»» gradient_colors=»#a0ce4e|» gradient_hover_colors=»#96c346|» accent_color=»» accent_hover_color=»» bevel_color=»» border_width=»0px» icon=»fa-trophy» icon_position=»left» icon_divider=»no» modal=»» animation_type=»0″ animation_direction=»up» animation_speed=»1″ alignment=»center» class=»» id=»»]Descargar[/button][/one_half][/fullwidth]
URL:https://olivar.golf/torneo/ranking-golf-olivar-friends-alumnos-campo-largo-4
LOCATION:Campo de Golf Olivar de la Hinojosa\,  Club de Golf Olivar de la Hinojosa Campo de las Naciones Avda. de Dublín\, S/N 28042 Madrid España\, Madrid\, Madrid\, 28042\, España
ATTACH;FMTTYPE=image/jpeg:https://olivar.golf/wp-content/uploads/2018/01/Titluo-Proximamente-Torneos-Olivar-de-la-Hinojosa-Golf-Perfect-Pixel.jpg
END:VEVENT
BEGIN:VEVENT
DTSTART;TZID=UTC:20180520T080000
DTEND;TZID=UTC:20180520T170000
DTSTAMP:20260422T133545
CREATED:20180404T083613Z
LAST-MODIFIED:20200918T133031Z
UID:13133-1526803200-1526835600@olivar.golf
SUMMARY:Campeonato de PRIMAVERA Abierto FEDGOLFMADRID ( Indv. Stab) - ABIERTO
DESCRIPTION:[fullwidth background_color=»» background_image=»» background_parallax=»none» enable_mobile=»no» parallax_speed=»0.3″ background_repeat=»no-repeat» background_position=»left top» video_url=»» video_aspect_ratio=»16:9″ video_webm=»» video_mp4=»» video_ogv=»» video_preview_image=»» overlay_color=»» overlay_opacity=»0.5″ video_mute=»yes» video_loop=»yes» fade=»no» border_size=»0px» border_color=»» border_style=»solid» padding_top=»0px» padding_bottom=»60px» padding_left=»0px» padding_right=»0px» hundred_percent=»no» equal_height_columns=»no» hide_on_mobile=»no» menu_anchor=»» class=»» id=»»] \nCampeonato de PRIMAVERA Abierto FGM\n \n[one_half last=»no» spacing=»yes» center_content=»no» hide_on_mobile=»no» background_color=»» background_image=»» background_repeat=»no-repeat» background_position=»left top» border_position=»all» border_size=»0px» border_color=»» border_style=»» padding=»» margin_top=»» margin_bottom=»» animation_type=»» animation_direction=»» animation_speed=»0.1″ class=»» id=»»] \nEl próximo domingo 20 de mayo 2018 se celebrará en el club de golf Olivar de la Hinojosa\, el Campeonato de PRIMAVERA Abierto FEDGOLFMADRID. La modalidad será Individual Stableford. Los ganadores de trofeo estarán INVITADOS a recoger su trofeo y participar en el torneo FINAL DE GANADORES que se disputará en el mes de enero de 2019. \nCATEGORÍAS: \n\n1ª categoría: 0-18\,4\n2ª categoría: 18\,5-36\,4\n\nLimitación de handicaps: \n\nCaballeros: 24\nDamas: 28\n\nHorario de salida: \n\nTee 1 Por HCP desde las 08:00\n\nInformación del horario de salidas: \n\nJueves 17 de mayo a partir de las 14:00 horas en nuestra página web www.golfolivar.com ó en la recepción del Club.\n\nInscripciones: \n\nPor teléfono o en la recepción del Club \, desde el 7 de mayo 2018.\n\n«Circuito los 5 Mejores»\nCircuito ANUAL compuesto por las 10 pruebas abiertas a disputar en el Golf Olivar.\nTodos los jugadores de cada prueba participaran en la clasificación global\, sumando los puntos stableford obtenidos en cada prueba.\nAl final del año los 5 mejores jugadores con más puntos stableford acumulados recibirán: un trofeo \, invitación para la Final de Ganadores 2018 y el premio de poder participar de forma GRATUITA en los 10 torneos del año 2019. \n\n[/one_half][one_third last=»yes» spacing=»yes» center_content=»no» hide_on_mobile=»no» background_color=»» background_image=»» background_repeat=»no-repeat» background_position=»left top» border_position=»all» border_size=»0px» border_color=»» border_style=»solid» padding=»» margin_top=»» margin_bottom=»» animation_type=»0″ animation_direction=»down» animation_speed=»0.1″ class=»» id=»»][imageframe lightbox=»yes» lightbox_image=»http://olivar.golf/wp-content/uploads/2018/04/Torneo-de-Golf-Primavera-Olivar-2018-Perfect-Pixel-Publicidad-Cartel.jpg» style_type=»none» hover_type=»zoomin» bordercolor=»» bordersize=»0px» borderradius=»0″ stylecolor=»» align=»center» link=»» linktarget=»_self» animation_type=»fade» animation_direction=»down» animation_speed=»0.1″ hide_on_mobile=»no» class=»» id=»»] [/imageframe][imageframe lightbox=»yes» lightbox_image=»http://olivar.golf/wp-content/uploads/2018/03/Circuito-Los-5-mejores-Cartel-1.jpg» style_type=»none» hover_type=»zoomin» bordercolor=»» bordersize=»0px» borderradius=»0″ stylecolor=»» align=»center» link=»» linktarget=»_self» animation_type=»fade» animation_direction=»down» animation_speed=»0.1″ hide_on_mobile=»no» class=»» id=»»] [/imageframe][/one_third][/fullwidth] \n[fullwidth background_color=»» background_image=»» background_parallax=»none» enable_mobile=»no» parallax_speed=»0.3″ background_repeat=»no-repeat» background_position=»left top» video_url=»» video_aspect_ratio=»16:9″ video_webm=»» video_mp4=»» video_ogv=»» video_preview_image=»» overlay_color=»» overlay_opacity=»0.5″ video_mute=»yes» video_loop=»yes» fade=»no» border_size=»0px» border_color=»» border_style=»solid» padding_top=»0px» padding_bottom=»60px» padding_left=»0px» padding_right=»0px» hundred_percent=»no» equal_height_columns=»no» hide_on_mobile=»no» menu_anchor=»» class=»» id=»»][one_half last=»no» spacing=»yes» center_content=»no» hide_on_mobile=»no» background_color=»» background_image=»» background_repeat=»no-repeat» background_position=»left top» border_position=»all» border_size=»0px» border_color=»» border_style=»» padding=»» margin_top=»» margin_bottom=»» animation_type=»» animation_direction=»» animation_speed=»0.1″ class=»» id=»»][imageframe lightbox=»no» lightbox_image=»» style_type=»none» hover_type=»zoomin» bordercolor=»» bordersize=»0px» borderradius=»0″ stylecolor=»» align=»center» link=»» linktarget=»_self» animation_type=»fade» animation_direction=»down» animation_speed=»0.1″ hide_on_mobile=»no» class=»» id=»»] [/imageframe][button link=»http://olivar.golf/pdf/torneos/salidas/Salidas20-05-18.pdf» color=»custom» size=»xlarge» type=»3d» shape=»pill» target=»_self» title=»» gradient_colors=»#a0ce4e|» gradient_hover_colors=»#96c346|» accent_color=»» accent_hover_color=»» bevel_color=»» border_width=»0px» icon=»fa-th-list» icon_position=»left» icon_divider=»no» modal=»» animation_type=»0″ animation_direction=»up» animation_speed=»1″ alignment=»center» class=»» id=»»]Descargar[/button][/one_half][one_half last=»yes» spacing=»yes» center_content=»no» hide_on_mobile=»no» background_color=»» background_image=»» background_repeat=»no-repeat» background_position=»left top» border_position=»all» border_size=»0px» border_color=»» border_style=»solid» padding=»» margin_top=»» margin_bottom=»» animation_type=»0″ animation_direction=»down» animation_speed=»0.1″ class=»» id=»»][imageframe lightbox=»no» lightbox_image=»» style_type=»none» hover_type=»zoomin» bordercolor=»» bordersize=»0px» borderradius=»0″ stylecolor=»» align=»center» link=»» linktarget=»_self» animation_type=»fade» animation_direction=»down» animation_speed=»0.1″ hide_on_mobile=»no» class=»» id=»»] [/imageframe][button link=»http://olivar.golf/pdf/torneos/clasificaciones/Clasificaciones20-05-18.pdf» color=»custom» size=»xlarge» type=»3d» shape=»pill» target=»_self» title=»» gradient_colors=»#a0ce4e|» gradient_hover_colors=»#96c346|» accent_color=»» accent_hover_color=»» bevel_color=»» border_width=»0px» icon=»fa-trophy» icon_position=»left» icon_divider=»no» modal=»» animation_type=»0″ animation_direction=»up» animation_speed=»1″ alignment=»center» class=»» id=»»]Descargar[/button][/one_half][/fullwidth]
URL:https://olivar.golf/torneo/campeonato-de-primavera-abierto-fedgolfmadrid-indv-stab-abierto
LOCATION:Campo de Golf Olivar de la Hinojosa\,  Club de Golf Olivar de la Hinojosa Campo de las Naciones Avda. de Dublín\, S/N 28042 Madrid España\, Madrid\, Madrid\, 28042\, España
CATEGORIES:Modalidad: Individual Stableford,Torneo Abierto
ATTACH;FMTTYPE=image/jpeg:https://olivar.golf/wp-content/uploads/2018/04/Torneo-de-Golf-Primavera-Olivar-2018-Perfect-Pixel-Publicidad-Banner.jpg
END:VEVENT
BEGIN:VEVENT
DTSTART;TZID=UTC:20180527T130000
DTEND;TZID=UTC:20180527T170000
DTSTAMP:20260422T133545
CREATED:20180404T083827Z
LAST-MODIFIED:20200918T133030Z
UID:13139-1527426000-1527440400@olivar.golf
SUMMARY:Ranking Golf Olivar & Friends - ALUMNOS ( CAMPO CORTO)-INFANTIL
DESCRIPTION:[fullwidth background_color=»» background_image=»» background_parallax=»none» enable_mobile=»no» parallax_speed=»0.3″ background_repeat=»no-repeat» background_position=»left top» video_url=»» video_aspect_ratio=»16:9″ video_webm=»» video_mp4=»» video_ogv=»» video_preview_image=»» overlay_color=»» overlay_opacity=»0.5″ video_mute=»yes» video_loop=»yes» fade=»no» border_size=»0px» border_color=»» border_style=»solid» padding_top=»0px» padding_bottom=»60px» padding_left=»0px» padding_right=»0px» hundred_percent=»no» equal_height_columns=»no» hide_on_mobile=»no» menu_anchor=»» class=»» id=»»][one_half last=»no» spacing=»yes» center_content=»no» hide_on_mobile=»no» background_color=»» background_image=»» background_repeat=»no-repeat» background_position=»left top» border_position=»all» border_size=»0px» border_color=»» border_style=»» padding=»» margin_top=»» margin_bottom=»» animation_type=»» animation_direction=»» animation_speed=»0.1″ class=»» id=»»][imageframe lightbox=»no» lightbox_image=»» style_type=»none» hover_type=»zoomin» bordercolor=»» bordersize=»0px» borderradius=»0″ stylecolor=»» align=»center» link=»» linktarget=»_self» animation_type=»fade» animation_direction=»down» animation_speed=»0.1″ hide_on_mobile=»no» class=»» id=»»] [/imageframe][button link=»http://olivar.golf/pdf/torneos/salidas/Salidas27-05-18.pdf» color=»custom» size=»xlarge» type=»3d» shape=»pill» target=»_self» title=»» gradient_colors=»#a0ce4e|» gradient_hover_colors=»#96c346|» accent_color=»» accent_hover_color=»» bevel_color=»» border_width=»0px» icon=»fa-th-list» icon_position=»left» icon_divider=»no» modal=»» animation_type=»0″ animation_direction=»up» animation_speed=»1″ alignment=»center» class=»» id=»»]Descargar[/button][/one_half][one_half last=»yes» spacing=»yes» center_content=»no» hide_on_mobile=»no» background_color=»» background_image=»» background_repeat=»no-repeat» background_position=»left top» border_position=»all» border_size=»0px» border_color=»» border_style=»solid» padding=»» margin_top=»» margin_bottom=»» animation_type=»0″ animation_direction=»down» animation_speed=»0.1″ class=»» id=»»][imageframe lightbox=»no» lightbox_image=»» style_type=»none» hover_type=»zoomin» bordercolor=»» bordersize=»0px» borderradius=»0″ stylecolor=»» align=»center» link=»» linktarget=»_self» animation_type=»fade» animation_direction=»down» animation_speed=»0.1″ hide_on_mobile=»no» class=»» id=»»] [/imageframe][button link=»http://olivar.golf/pdf/torneos/clasificaciones/Clasificaciones27-05-18.pdf» color=»custom» size=»xlarge» type=»3d» shape=»pill» target=»_self» title=»» gradient_colors=»#a0ce4e|» gradient_hover_colors=»#96c346|» accent_color=»» accent_hover_color=»» bevel_color=»» border_width=»0px» icon=»fa-trophy» icon_position=»left» icon_divider=»no» modal=»» animation_type=»0″ animation_direction=»up» animation_speed=»1″ alignment=»center» class=»» id=»»]Descargar[/button][/one_half][/fullwidth]
URL:https://olivar.golf/torneo/ranking-golf-olivar-friends-alumnos-campo-corto-infantil
LOCATION:Campo de Golf Olivar de la Hinojosa\,  Club de Golf Olivar de la Hinojosa Campo de las Naciones Avda. de Dublín\, S/N 28042 Madrid España\, Madrid\, Madrid\, 28042\, España
ATTACH;FMTTYPE=image/jpeg:https://olivar.golf/wp-content/uploads/2018/01/Titluo-Proximamente-Torneos-Olivar-de-la-Hinojosa-Golf-Perfect-Pixel.jpg
END:VEVENT
END:VCALENDAR