BEGIN:VCALENDAR
VERSION:2.0
PRODID:-//Golf Olivar de la Hinojosa - ECPv6.0.11//NONSGML v1.0//EN
CALSCALE:GREGORIAN
METHOD:PUBLISH
X-WR-CALNAME:Golf Olivar de la Hinojosa
X-ORIGINAL-URL:https://olivar.golf
X-WR-CALDESC:Eventos para Golf Olivar de la Hinojosa
REFRESH-INTERVAL;VALUE=DURATION:PT1H
X-Robots-Tag:noindex
X-PUBLISHED-TTL:PT1H
BEGIN:VTIMEZONE
TZID:UTC
BEGIN:STANDARD
TZOFFSETFROM:+0000
TZOFFSETTO:+0000
TZNAME:UTC
DTSTART:20180101T000000
END:STANDARD
END:VTIMEZONE
BEGIN:VEVENT
DTSTART;TZID=UTC:20180610T130000
DTEND;TZID=UTC:20180610T170000
DTSTAMP:20260422T102404
CREATED:20180404T083913Z
LAST-MODIFIED:20200918T133030Z
UID:13141-1528635600-1528650000@olivar.golf
SUMMARY:Ranking Golf Olivar & Friends - ALUMNOS ( CAMPO LARGO)
DESCRIPTION:[fullwidth background_color=»» background_image=»» background_parallax=»none» enable_mobile=»no» parallax_speed=»0.3″ background_repeat=»no-repeat» background_position=»left top» video_url=»» video_aspect_ratio=»16:9″ video_webm=»» video_mp4=»» video_ogv=»» video_preview_image=»» overlay_color=»» overlay_opacity=»0.5″ video_mute=»yes» video_loop=»yes» fade=»no» border_size=»0px» border_color=»» border_style=»solid» padding_top=»0px» padding_bottom=»60px» padding_left=»0px» padding_right=»0px» hundred_percent=»no» equal_height_columns=»no» hide_on_mobile=»no» menu_anchor=»» class=»» id=»»][one_half last=»no» spacing=»yes» center_content=»no» hide_on_mobile=»no» background_color=»» background_image=»» background_repeat=»no-repeat» background_position=»left top» border_position=»all» border_size=»0px» border_color=»» border_style=»» padding=»» margin_top=»» margin_bottom=»» animation_type=»» animation_direction=»» animation_speed=»0.1″ class=»» id=»»][imageframe lightbox=»no» lightbox_image=»» style_type=»none» hover_type=»zoomin» bordercolor=»» bordersize=»0px» borderradius=»0″ stylecolor=»» align=»center» link=»» linktarget=»_self» animation_type=»fade» animation_direction=»down» animation_speed=»0.1″ hide_on_mobile=»no» class=»» id=»»] [/imageframe][button link=»http://olivar.golf/pdf/torneos/salidas/Salidas10-06-18.pdf» color=»custom» size=»xlarge» type=»3d» shape=»pill» target=»_self» title=»» gradient_colors=»#a0ce4e|» gradient_hover_colors=»#96c346|» accent_color=»» accent_hover_color=»» bevel_color=»» border_width=»0px» icon=»fa-th-list» icon_position=»left» icon_divider=»no» modal=»» animation_type=»0″ animation_direction=»up» animation_speed=»1″ alignment=»center» class=»» id=»»]Descargar[/button][/one_half][one_half last=»yes» spacing=»yes» center_content=»no» hide_on_mobile=»no» background_color=»» background_image=»» background_repeat=»no-repeat» background_position=»left top» border_position=»all» border_size=»0px» border_color=»» border_style=»solid» padding=»» margin_top=»» margin_bottom=»» animation_type=»0″ animation_direction=»down» animation_speed=»0.1″ class=»» id=»»][imageframe lightbox=»no» lightbox_image=»» style_type=»none» hover_type=»zoomin» bordercolor=»» bordersize=»0px» borderradius=»0″ stylecolor=»» align=»center» link=»» linktarget=»_self» animation_type=»fade» animation_direction=»down» animation_speed=»0.1″ hide_on_mobile=»no» class=»» id=»»] [/imageframe][button link=»http://olivar.golf/pdf/torneos/clasificaciones/Clasificaciones10-06-18.pdf» color=»custom» size=»xlarge» type=»3d» shape=»pill» target=»_self» title=»» gradient_colors=»#a0ce4e|» gradient_hover_colors=»#96c346|» accent_color=»» accent_hover_color=»» bevel_color=»» border_width=»0px» icon=»fa-trophy» icon_position=»left» icon_divider=»no» modal=»» animation_type=»0″ animation_direction=»up» animation_speed=»1″ alignment=»center» class=»» id=»»]Descargar[/button][/one_half][/fullwidth]
URL:https://olivar.golf/torneo/ranking-golf-olivar-friends-alumnos-campo-largo-5
LOCATION:Campo de Golf Olivar de la Hinojosa\,  Club de Golf Olivar de la Hinojosa Campo de las Naciones Avda. de Dublín\, S/N 28042 Madrid España\, Madrid\, Madrid\, 28042\, España
ATTACH;FMTTYPE=image/jpeg:https://olivar.golf/wp-content/uploads/2018/01/Titluo-Proximamente-Torneos-Olivar-de-la-Hinojosa-Golf-Perfect-Pixel.jpg
END:VEVENT
BEGIN:VEVENT
DTSTART;TZID=UTC:20180613T130000
DTEND;TZID=UTC:20180613T170000
DTSTAMP:20260422T102404
CREATED:20180404T083956Z
LAST-MODIFIED:20200918T133030Z
UID:13143-1528894800-1528909200@olivar.golf
SUMMARY:Torneo trimestral Escuela de Golf Adultos- ALUMNOS ( CAMPO CORTO )
DESCRIPTION:[fullwidth background_color=»» background_image=»» background_parallax=»none» enable_mobile=»no» parallax_speed=»0.3″ background_repeat=»no-repeat» background_position=»left top» video_url=»» video_aspect_ratio=»16:9″ video_webm=»» video_mp4=»» video_ogv=»» video_preview_image=»» overlay_color=»» overlay_opacity=»0.5″ video_mute=»yes» video_loop=»yes» fade=»no» border_size=»0px» border_color=»» border_style=»solid» padding_top=»0px» padding_bottom=»60px» padding_left=»0px» padding_right=»0px» hundred_percent=»no» equal_height_columns=»no» hide_on_mobile=»no» menu_anchor=»» class=»» id=»»][one_half last=»no» spacing=»yes» center_content=»no» hide_on_mobile=»no» background_color=»» background_image=»» background_repeat=»no-repeat» background_position=»left top» border_position=»all» border_size=»0px» border_color=»» border_style=»» padding=»» margin_top=»» margin_bottom=»» animation_type=»» animation_direction=»» animation_speed=»0.1″ class=»» id=»»][imageframe lightbox=»no» lightbox_image=»» style_type=»none» hover_type=»zoomin» bordercolor=»» bordersize=»0px» borderradius=»0″ stylecolor=»» align=»center» link=»» linktarget=»_self» animation_type=»fade» animation_direction=»down» animation_speed=»0.1″ hide_on_mobile=»no» class=»» id=»»] [/imageframe][button link=»http://olivar.golf/pdf/torneos/salidas/Salidas13-06-18.pdf» color=»custom» size=»xlarge» type=»3d» shape=»pill» target=»_self» title=»» gradient_colors=»#a0ce4e|» gradient_hover_colors=»#96c346|» accent_color=»» accent_hover_color=»» bevel_color=»» border_width=»0px» icon=»fa-th-list» icon_position=»left» icon_divider=»no» modal=»» animation_type=»0″ animation_direction=»up» animation_speed=»1″ alignment=»center» class=»» id=»»]Descargar[/button][/one_half][one_half last=»yes» spacing=»yes» center_content=»no» hide_on_mobile=»no» background_color=»» background_image=»» background_repeat=»no-repeat» background_position=»left top» border_position=»all» border_size=»0px» border_color=»» border_style=»solid» padding=»» margin_top=»» margin_bottom=»» animation_type=»0″ animation_direction=»down» animation_speed=»0.1″ class=»» id=»»][imageframe lightbox=»no» lightbox_image=»» style_type=»none» hover_type=»zoomin» bordercolor=»» bordersize=»0px» borderradius=»0″ stylecolor=»» align=»center» link=»» linktarget=»_self» animation_type=»fade» animation_direction=»down» animation_speed=»0.1″ hide_on_mobile=»no» class=»» id=»»] [/imageframe][button link=»http://olivar.golf/pdf/torneos/clasificaciones/Clasificaciones13-06-18.pdf» color=»custom» size=»xlarge» type=»3d» shape=»pill» target=»_self» title=»» gradient_colors=»#a0ce4e|» gradient_hover_colors=»#96c346|» accent_color=»» accent_hover_color=»» bevel_color=»» border_width=»0px» icon=»fa-trophy» icon_position=»left» icon_divider=»no» modal=»» animation_type=»0″ animation_direction=»up» animation_speed=»1″ alignment=»center» class=»» id=»»]Descargar[/button][/one_half][/fullwidth]
URL:https://olivar.golf/torneo/torneo-trimestral-escuela-de-golf-adultos-alumnos-campo-corto-2
LOCATION:Campo de Golf Olivar de la Hinojosa\,  Club de Golf Olivar de la Hinojosa Campo de las Naciones Avda. de Dublín\, S/N 28042 Madrid España\, Madrid\, Madrid\, 28042\, España
ATTACH;FMTTYPE=image/jpeg:https://olivar.golf/wp-content/uploads/2018/01/Titluo-Proximamente-Torneos-Olivar-de-la-Hinojosa-Golf-Perfect-Pixel.jpg
END:VEVENT
BEGIN:VEVENT
DTSTART;TZID=UTC:20180616T080000
DTEND;TZID=UTC:20180616T170000
DTSTAMP:20260422T102404
CREATED:20180404T084035Z
LAST-MODIFIED:20200918T133030Z
UID:13145-1529136000-1529168400@olivar.golf
SUMMARY:PREMIO DOBLES OLIVAR ( Copa Canadá)- ABIERTO
DESCRIPTION:[fullwidth background_color=»» background_image=»» background_parallax=»none» enable_mobile=»no» parallax_speed=»0.3″ background_repeat=»no-repeat» background_position=»left top» video_url=»» video_aspect_ratio=»16:9″ video_webm=»» video_mp4=»» video_ogv=»» video_preview_image=»» overlay_color=»» overlay_opacity=»0.5″ video_mute=»yes» video_loop=»yes» fade=»no» border_size=»0px» border_color=»» border_style=»solid» padding_top=»0px» padding_bottom=»60px» padding_left=»0px» padding_right=»0px» hundred_percent=»no» equal_height_columns=»no» hide_on_mobile=»no» menu_anchor=»» class=»» id=»»] \nPREMIO DOBLES OLIVAR ( Copa Canadá)- ABIERTO\n \n[one_half last=»no» spacing=»yes» center_content=»no» hide_on_mobile=»no» background_color=»» background_image=»» background_repeat=»no-repeat» background_position=»left top» border_position=»all» border_size=»0px» border_color=»» border_style=»» padding=»» margin_top=»» margin_bottom=»» animation_type=»» animation_direction=»» animation_speed=»0.1″ class=»» id=»»] \nEl próximo sábado 16 de junio 2018 se celebrará en el club de golf Olivar de la Hinojosa\, el PREMIO DOBLES OLIVAR ( Copa Canadá)- ABIERTO. La modalidad será Copa Canadá. Los ganadores de trofeo estarán INVITADOS a recoger su trofeo y participar en el torneo FINAL DE GANADORES que se disputará en el mes de enero de 2019. \nLimitación de handicaps: \n\nCaballeros: 24\nDamas: 28\n\nHorario de salida: \n\nTee 1 Por HCP desde las 08:00\n\nInformación del horario de salidas: \n\nJueves 14 de junio a partir de las 14:00 horas en nuestra página web www.golfolivar.com ó en la recepción del Club.\n\nInscripciones: \n\nPor teléfono o en la recepción del Club \, desde el 1 de junio 2018.\n\n«Circuito los 5 Mejores»\nCircuito ANUAL compuesto por las 10 pruebas abiertas a disputar en el Golf Olivar.\nTodos los jugadores de cada prueba participaran en la clasificación global\, sumando los puntos stableford obtenidos en cada prueba.\nAl final del año los 5 mejores jugadores con más puntos stableford acumulados recibirán: un trofeo \, invitación para la Final de Ganadores 2018 y el premio de poder participar de forma GRATUITA en los 10 torneos del año 2019. \n\n[/one_half][one_third last=»yes» spacing=»yes» center_content=»no» hide_on_mobile=»no» background_color=»» background_image=»» background_repeat=»no-repeat» background_position=»left top» border_position=»all» border_size=»0px» border_color=»» border_style=»solid» padding=»» margin_top=»» margin_bottom=»» animation_type=»0″ animation_direction=»down» animation_speed=»0.1″ class=»» id=»»][imageframe lightbox=»yes» lightbox_image=»http://olivar.golf/wp-content/uploads/2018/05/Cartel-Torneo-Dobles-2018-Olivar-Perfect-Pixel-Publicidad-Web.jpg» style_type=»none» hover_type=»zoomin» bordercolor=»» bordersize=»0px» borderradius=»0″ stylecolor=»» align=»center» link=»» linktarget=»_self» animation_type=»fade» animation_direction=»down» animation_speed=»0.1″ hide_on_mobile=»no» class=»» id=»»] [/imageframe] \n \nTorneo de dobles golf Olivar de la Hinojosa – 3d Advertisement (Perfect Pixel) from Perfect Pixel Publicidad on Vimeo. \n\n[/one_third][/fullwidth][fullwidth background_color=»» background_image=»» background_parallax=»none» enable_mobile=»no» parallax_speed=»0.3″ background_repeat=»no-repeat» background_position=»left top» video_url=»» video_aspect_ratio=»16:9″ video_webm=»» video_mp4=»» video_ogv=»» video_preview_image=»» overlay_color=»» overlay_opacity=»0.5″ video_mute=»yes» video_loop=»yes» fade=»no» border_size=»0px» border_color=»» border_style=»solid» padding_top=»0px» padding_bottom=»60px» padding_left=»0px» padding_right=»0px» hundred_percent=»no» equal_height_columns=»no» hide_on_mobile=»no» menu_anchor=»» class=»» id=»»][one_half last=»no» spacing=»yes» center_content=»no» hide_on_mobile=»no» background_color=»» background_image=»» background_repeat=»no-repeat» background_position=»left top» border_position=»all» border_size=»0px» border_color=»» border_style=»» padding=»» margin_top=»» margin_bottom=»» animation_type=»» animation_direction=»» animation_speed=»0.1″ class=»» id=»»][button link=»http://olivar.golf/pdf/torneos/salidas/Salidas16-06-18.pdf» color=»custom» size=»xlarge» type=»3d» shape=»square» target=»_self» title=»» gradient_colors=»#836500|» gradient_hover_colors=»#96c346|» accent_color=»#FFFFFF» accent_hover_color=»» bevel_color=»» border_width=»0px» icon=»fa-th-list» icon_position=»left» icon_divider=»no» modal=»» animation_type=»0″ animation_direction=»up» animation_speed=»1″ alignment=»center» class=»» id=»»]SALIDAS[/button][/one_half][one_half last=»yes» spacing=»yes» center_content=»no» hide_on_mobile=»no» background_color=»» background_image=»» background_repeat=»no-repeat» background_position=»left top» border_position=»all» border_size=»0px» border_color=»» border_style=»solid» padding=»» margin_top=»» margin_bottom=»» animation_type=»0″ animation_direction=»down» animation_speed=»0.1″ class=»» id=»»][button link=»http://olivar.golf/pdf/torneos/clasificaciones/Clasificaciones16-06-18.pdf» color=»custom» size=»xlarge» type=»3d» shape=»square» target=»_self» title=»» gradient_colors=»#836500|» gradient_hover_colors=»#96c346|» accent_color=»#FFFFFF» accent_hover_color=»» bevel_color=»» border_width=»0px» icon=»fa-trophy» icon_position=»left» icon_divider=»no» modal=»» animation_type=»0″ animation_direction=»up» animation_speed=»1″ alignment=»center» class=»» id=»»]CLASIFICACIONES[/button][/one_half][/fullwidth]
URL:https://olivar.golf/torneo/premio-dobles-olivar-copa-canada-abierto
LOCATION:Campo de Golf Olivar de la Hinojosa\,  Club de Golf Olivar de la Hinojosa Campo de las Naciones Avda. de Dublín\, S/N 28042 Madrid España\, Madrid\, Madrid\, 28042\, España
ATTACH;FMTTYPE=image/jpeg:https://olivar.golf/wp-content/uploads/2018/04/Banner-Torneo-Dobles-2018-Olivar-Perfect-Pixel-Publicidad.jpg
END:VEVENT
BEGIN:VEVENT
DTSTART;TZID=UTC:20180617T090000
DTEND;TZID=UTC:20180617T170000
DTSTAMP:20260422T102404
CREATED:20180404T084241Z
LAST-MODIFIED:20200918T133030Z
UID:13147-1529226000-1529254800@olivar.golf
SUMMARY:Torneo trimestral Escuela Golf INFANTIL- ALUMNOS (CAMPO CORTO)
DESCRIPTION:[fullwidth background_color=»» background_image=»» background_parallax=»none» enable_mobile=»no» parallax_speed=»0.3″ background_repeat=»no-repeat» background_position=»left top» video_url=»» video_aspect_ratio=»16:9″ video_webm=»» video_mp4=»» video_ogv=»» video_preview_image=»» overlay_color=»» overlay_opacity=»0.5″ video_mute=»yes» video_loop=»yes» fade=»no» border_size=»0px» border_color=»» border_style=»solid» padding_top=»0px» padding_bottom=»60px» padding_left=»0px» padding_right=»0px» hundred_percent=»no» equal_height_columns=»no» hide_on_mobile=»no» menu_anchor=»» class=»» id=»»][one_half last=»no» spacing=»yes» center_content=»no» hide_on_mobile=»no» background_color=»» background_image=»» background_repeat=»no-repeat» background_position=»left top» border_position=»all» border_size=»0px» border_color=»» border_style=»» padding=»» margin_top=»» margin_bottom=»» animation_type=»» animation_direction=»» animation_speed=»0.1″ class=»» id=»»][imageframe lightbox=»no» lightbox_image=»» style_type=»none» hover_type=»zoomin» bordercolor=»» bordersize=»0px» borderradius=»0″ stylecolor=»» align=»center» link=»» linktarget=»_self» animation_type=»fade» animation_direction=»down» animation_speed=»0.1″ hide_on_mobile=»no» class=»» id=»»] [/imageframe][button link=»http://olivar.golf/pdf/torneos/salidas/Salidas17-06-18.pdf» color=»custom» size=»xlarge» type=»3d» shape=»pill» target=»_self» title=»» gradient_colors=»#a0ce4e|» gradient_hover_colors=»#96c346|» accent_color=»» accent_hover_color=»» bevel_color=»» border_width=»0px» icon=»fa-th-list» icon_position=»left» icon_divider=»no» modal=»» animation_type=»0″ animation_direction=»up» animation_speed=»1″ alignment=»center» class=»» id=»»]Descargar[/button][/one_half][one_half last=»yes» spacing=»yes» center_content=»no» hide_on_mobile=»no» background_color=»» background_image=»» background_repeat=»no-repeat» background_position=»left top» border_position=»all» border_size=»0px» border_color=»» border_style=»solid» padding=»» margin_top=»» margin_bottom=»» animation_type=»0″ animation_direction=»down» animation_speed=»0.1″ class=»» id=»»][imageframe lightbox=»no» lightbox_image=»» style_type=»none» hover_type=»zoomin» bordercolor=»» bordersize=»0px» borderradius=»0″ stylecolor=»» align=»center» link=»» linktarget=»_self» animation_type=»fade» animation_direction=»down» animation_speed=»0.1″ hide_on_mobile=»no» class=»» id=»»] [/imageframe][button link=»http://olivar.golf/pdf/torneos/clasificaciones/Clasificaciones17-06-18.pdf» color=»custom» size=»xlarge» type=»3d» shape=»pill» target=»_self» title=»» gradient_colors=»#a0ce4e|» gradient_hover_colors=»#96c346|» accent_color=»» accent_hover_color=»» bevel_color=»» border_width=»0px» icon=»fa-trophy» icon_position=»left» icon_divider=»no» modal=»» animation_type=»0″ animation_direction=»up» animation_speed=»1″ alignment=»center» class=»» id=»»]Descargar[/button][/one_half][/fullwidth]
URL:https://olivar.golf/torneo/torneo-trimestral-escuela-golf-infantil-alumnos-campo-corto-2
LOCATION:Campo de Golf Olivar de la Hinojosa\,  Club de Golf Olivar de la Hinojosa Campo de las Naciones Avda. de Dublín\, S/N 28042 Madrid España\, Madrid\, Madrid\, 28042\, España
ATTACH;FMTTYPE=image/jpeg:https://olivar.golf/wp-content/uploads/2018/01/Titluo-Proximamente-Torneos-Olivar-de-la-Hinojosa-Golf-Perfect-Pixel.jpg
END:VEVENT
BEGIN:VEVENT
DTSTART;TZID=UTC:20180624T130000
DTEND;TZID=UTC:20180624T170000
DTSTAMP:20260422T102404
CREATED:20180404T084434Z
LAST-MODIFIED:20200918T133029Z
UID:13153-1529845200-1529859600@olivar.golf
SUMMARY:TORNEO CASINO DE MADRID
DESCRIPTION:[fullwidth background_color=»» background_image=»» background_parallax=»none» enable_mobile=»no» parallax_speed=»0.3″ background_repeat=»no-repeat» background_position=»left top» video_url=»» video_aspect_ratio=»16:9″ video_webm=»» video_mp4=»» video_ogv=»» video_preview_image=»» overlay_color=»» overlay_opacity=»0.5″ video_mute=»yes» video_loop=»yes» fade=»no» border_size=»0px» border_color=»» border_style=»solid» padding_top=»0px» padding_bottom=»60px» padding_left=»0px» padding_right=»0px» hundred_percent=»no» equal_height_columns=»no» hide_on_mobile=»no» menu_anchor=»» class=»» id=»»][one_half last=»no» spacing=»yes» center_content=»no» hide_on_mobile=»no» background_color=»» background_image=»» background_repeat=»no-repeat» background_position=»left top» border_position=»all» border_size=»0px» border_color=»» border_style=»» padding=»» margin_top=»» margin_bottom=»» animation_type=»» animation_direction=»» animation_speed=»0.1″ class=»» id=»»][imageframe lightbox=»no» lightbox_image=»» style_type=»none» hover_type=»zoomin» bordercolor=»» bordersize=»0px» borderradius=»0″ stylecolor=»» align=»center» link=»» linktarget=»_self» animation_type=»fade» animation_direction=»down» animation_speed=»0.1″ hide_on_mobile=»no» class=»» id=»»] [/imageframe][button link=»http://olivar.golf/pdf/torneos/salidas/Salidas24-06-18.pdf» color=»custom» size=»xlarge» type=»3d» shape=»pill» target=»_self» title=»» gradient_colors=»#a0ce4e|» gradient_hover_colors=»#96c346|» accent_color=»» accent_hover_color=»» bevel_color=»» border_width=»0px» icon=»fa-th-list» icon_position=»left» icon_divider=»no» modal=»» animation_type=»0″ animation_direction=»up» animation_speed=»1″ alignment=»center» class=»» id=»»]Descargar[/button][/one_half][one_half last=»yes» spacing=»yes» center_content=»no» hide_on_mobile=»no» background_color=»» background_image=»» background_repeat=»no-repeat» background_position=»left top» border_position=»all» border_size=»0px» border_color=»» border_style=»solid» padding=»» margin_top=»» margin_bottom=»» animation_type=»0″ animation_direction=»down» animation_speed=»0.1″ class=»» id=»»][imageframe lightbox=»no» lightbox_image=»» style_type=»none» hover_type=»zoomin» bordercolor=»» bordersize=»0px» borderradius=»0″ stylecolor=»» align=»center» link=»» linktarget=»_self» animation_type=»fade» animation_direction=»down» animation_speed=»0.1″ hide_on_mobile=»no» class=»» id=»»] [/imageframe][button link=»http://olivar.golf/pdf/torneos/clasificaciones/Clasificaciones24-06-18.pdf» color=»custom» size=»xlarge» type=»3d» shape=»pill» target=»_self» title=»» gradient_colors=»#a0ce4e|» gradient_hover_colors=»#96c346|» accent_color=»» accent_hover_color=»» bevel_color=»» border_width=»0px» icon=»fa-trophy» icon_position=»left» icon_divider=»no» modal=»» animation_type=»0″ animation_direction=»up» animation_speed=»1″ alignment=»center» class=»» id=»»]Descargar[/button][/one_half][/fullwidth]
URL:https://olivar.golf/torneo/torneo-casino-de-madrid
LOCATION:Campo de Golf Olivar de la Hinojosa\,  Club de Golf Olivar de la Hinojosa Campo de las Naciones Avda. de Dublín\, S/N 28042 Madrid España\, Madrid\, Madrid\, 28042\, España
ATTACH;FMTTYPE=image/jpeg:https://olivar.golf/wp-content/uploads/2018/01/Titluo-Proximamente-Torneos-Olivar-de-la-Hinojosa-Golf-Perfect-Pixel.jpg
END:VEVENT
BEGIN:VEVENT
DTSTART;VALUE=DATE:20180629
DTEND;VALUE=DATE:20180630
DTSTAMP:20260422T102404
CREATED:20180404T084325Z
LAST-MODIFIED:20200918T133029Z
UID:13149-1530230400-1530316799@olivar.golf
SUMMARY:22 º TORNEO CAMPO DE LAS NACIONES - ABIERTO
DESCRIPTION:[fullwidth background_color=»» background_image=»» background_parallax=»none» enable_mobile=»no» parallax_speed=»0.3″ background_repeat=»no-repeat» background_position=»left top» video_url=»» video_aspect_ratio=»16:9″ video_webm=»» video_mp4=»» video_ogv=»» video_preview_image=»» overlay_color=»» overlay_opacity=»0.5″ video_mute=»yes» video_loop=»yes» fade=»no» border_size=»0px» border_color=»» border_style=»solid» padding_top=»0px» padding_bottom=»60px» padding_left=»0px» padding_right=»0px» hundred_percent=»no» equal_height_columns=»no» hide_on_mobile=»no» menu_anchor=»» class=»» id=»»] \n22 º TORNEO CAMPO DE LAS NACIONES – ABIERTO\n \n[one_half last=»no» spacing=»yes» center_content=»no» hide_on_mobile=»no» background_color=»» background_image=»» background_repeat=»no-repeat» background_position=»left top» border_position=»all» border_size=»0px» border_color=»» border_style=»» padding=»» margin_top=»» margin_bottom=»» animation_type=»» animation_direction=»» animation_speed=»0.1″ class=»» id=»»] \nEl próximo viernes 29 de junio 2018 se celebrará en el club de golf Olivar de la Hinojosa\, el 22 º TORNEO CAMPO DE LAS NACIONES – ABIERTO. La modalidad será Individual Stableford. Los ganadores de trofeo estarán INVITADOS a recoger su trofeo y participar en el torneo FINAL DE GANADORES que se disputará en el mes de enero de 2019. \nPREMIOS Y REGALOS \n\n1º\, 2º y 3º clasificado CABALLEROS lª categoría (de O a 18\,4)\n1º\, 2º y 3º clasificado CABALLEROS 2ª categoría (de 18.5 a 36\,0)\n1º\, 2º y 3º clasificada DAMAS (de 0 a 18\,0)\n\nCocktail y entrega de premios a las 21:00 en la terrazade verano del Club. \nREGLAS DEL JUEGO \nSe disputará de acuerdo a las reglas aprobadas y en vigor por la Real Federación Española de Golf y por las locales que dictamine el Comité de Competición del Club. \nLimitación de handicaps: \n\nCaballeros: 24\nDamas: 28\n\nHorario de salida: \n\nPrimer tiro a las 09:00 y segundo tiro a las 15:30\n\nInscripciones: \n\nPor teléfono o en la recepción del Club \, desde el 12 de junio 2018.\n\n«Circuito los 5 Mejores»\nCircuito ANUAL compuesto por las 10 pruebas abiertas a disputar en el Golf Olivar.\nTodos los jugadores de cada prueba participaran en la clasificación global\, sumando los puntos stableford obtenidos en cada prueba.\nAl final del año los 5 mejores jugadores con más puntos stableford acumulados recibirán: un trofeo \, invitación para la Final de Ganadores 2018 y el premio de poder participar de forma GRATUITA en los 10 torneos del año 2019. \n\n[/one_half][one_third last=»yes» spacing=»yes» center_content=»no» hide_on_mobile=»no» background_color=»» background_image=»» background_repeat=»no-repeat» background_position=»left top» border_position=»all» border_size=»0px» border_color=»» border_style=»solid» padding=»» margin_top=»» margin_bottom=»» animation_type=»0″ animation_direction=»down» animation_speed=»0.1″ class=»» id=»»][imageframe lightbox=»yes» lightbox_image=»http://olivar.golf/wp-content/uploads/2018/04/22-Torneo-Campo-de-las-Naciones-Olivar-Hinojosa-Cartel-by-PerfectPixel-Publicidad-2018-Web.jpg» style_type=»none» hover_type=»zoomin» bordercolor=»» bordersize=»0px» borderradius=»0″ stylecolor=»» align=»center» link=»» linktarget=»_self» animation_type=»fade» animation_direction=»down» animation_speed=»0.1″ hide_on_mobile=»no» class=»» id=»»] [/imageframe] \n\n[/one_third][/fullwidth] \n[fullwidth background_color=»» background_image=»» background_parallax=»none» enable_mobile=»no» parallax_speed=»0.3″ background_repeat=»no-repeat» background_position=»left top» video_url=»» video_aspect_ratio=»16:9″ video_webm=»» video_mp4=»» video_ogv=»» video_preview_image=»» overlay_color=»» overlay_opacity=»0.5″ video_mute=»yes» video_loop=»yes» fade=»no» border_size=»0px» border_color=»» border_style=»solid» padding_top=»0px» padding_bottom=»60px» padding_left=»0px» padding_right=»0px» hundred_percent=»no» equal_height_columns=»no» hide_on_mobile=»no» menu_anchor=»» class=»» id=»»][one_half last=»no» spacing=»yes» center_content=»no» hide_on_mobile=»no» background_color=»» background_image=»» background_repeat=»no-repeat» background_position=»left top» border_position=»all» border_size=»0px» border_color=»» border_style=»» padding=»» margin_top=»» margin_bottom=»» animation_type=»» animation_direction=»» animation_speed=»0.1″ class=»» id=»»][button link=»http://olivar.golf/pdf/torneos/salidas/Salidas29-06-18.pdf» color=»custom» size=»xlarge» type=»3d» shape=»square» target=»_self» title=»» gradient_colors=»#836500|» gradient_hover_colors=»#96c346|» accent_color=»#FFFFFF» accent_hover_color=»» bevel_color=»» border_width=»0px» icon=»fa-th-list» icon_position=»left» icon_divider=»no» modal=»» animation_type=»0″ animation_direction=»up» animation_speed=»1″ alignment=»center» class=»» id=»»]SALIDAS[/button][/one_half][one_half last=»yes» spacing=»yes» center_content=»no» hide_on_mobile=»no» background_color=»» background_image=»» background_repeat=»no-repeat» background_position=»left top» border_position=»all» border_size=»0px» border_color=»» border_style=»solid» padding=»» margin_top=»» margin_bottom=»» animation_type=»0″ animation_direction=»down» animation_speed=»0.1″ class=»» id=»»][button link=»http://olivar.golf/pdf/torneos/clasificaciones/Clasificaciones29-06-18.pdf» color=»custom» size=»xlarge» type=»3d» shape=»square» target=»_self» title=»» gradient_colors=»#836500|» gradient_hover_colors=»#96c346|» accent_color=»#FFFFFF» accent_hover_color=»» bevel_color=»» border_width=»0px» icon=»fa-trophy» icon_position=»left» icon_divider=»no» modal=»» animation_type=»0″ animation_direction=»up» animation_speed=»1″ alignment=»center» class=»» id=»»]CLASIFICACIONES[/button][/one_half][/fullwidth]
URL:https://olivar.golf/torneo/22-o-torneo-campo-de-las-naciones-abierto
LOCATION:Campo de Golf Olivar de la Hinojosa\,  Club de Golf Olivar de la Hinojosa Campo de las Naciones Avda. de Dublín\, S/N 28042 Madrid España\, Madrid\, Madrid\, 28042\, España
ATTACH;FMTTYPE=image/jpeg:https://olivar.golf/wp-content/uploads/2018/04/22-Torneo-Campo-de-las-Naciones-Olivar-Hinojosa-Cartel-by-PerfectPixel-Publicidad-2018-Banner.jpg
END:VEVENT
END:VCALENDAR